BEGIN:VCALENDAR
VERSION:2.0
PRODID:-//Anyway - ECPv6.15.20//NONSGML v1.0//EN
CALSCALE:GREGORIAN
METHOD:PUBLISH
X-ORIGINAL-URL:https://anywaysolutions.com
X-WR-CALDESC:Events for Anyway
REFRESH-INTERVAL;VALUE=DURATION:PT1H
X-Robots-Tag:noindex
X-PUBLISHED-TTL:PT1H
BEGIN:VTIMEZONE
TZID:UTC
BEGIN:STANDARD
TZOFFSETFROM:+0000
TZOFFSETTO:+0000
TZNAME:UTC
DTSTART:20220101T000000
END:STANDARD
END:VTIMEZONE
BEGIN:VEVENT
DTSTART;VALUE=DATE:20230613
DTEND;VALUE=DATE:20230617
DTSTAMP:20260422T223732
CREATED:20230609T205540Z
LAST-MODIFIED:20230609T210228Z
UID:28294-1686614400-1686959999@anywaysolutions.com
SUMMARY:11th IRF Caribbean Regional Congress
DESCRIPTION:“A Roadmap to a Safe\, Inclusive\, and Resilient Transport System”\nThe IRF Caribbean Regional Conference is in its 11th year and brings transportation professionals from across 30 countries and territories. It is an essential gathering point for the region’s top transportation decision-makers and professionals\, combining regional case studies and global insights. The organizers aim to bring solutions and discuss best practices to address the common challenges that the region faces\, from road safety to climate resilience to the infrastructure needs that a new and electrified vehicle fleet will demand. \nAnyWay’s Participation\nAnyWay is excited to participate in the conference as a sponsor and through the technical program and panels. Alex Campbell\, Director of Engineering Solutions\, is attending on AnyWay’s behalf and presenting and participating in a panel discussion: \nTuesday June 13th\, @ 11:00 am EDT\nTransport Infrastructure for Small Island Developing States\nPresented by Alex Campbell\, Director of Engineering Solutions\nRead more \nWednesday June 15th\, @ 2:00 EDT\nPanel  discussion on innovation in Pavements & Materials\nPanellist\, Alex Campbell\, Director of Engineering Solutions\nRead more \nConnect with AnyWay\nAre you attending the conference? Reach out to Alex at acampbell@anywaysolutions.com 
URL:https://anywaysolutions.com/event/11th-irf-caribbean-regional-congress/
LOCATION:Atlantis Paradise Island\, One Casino Drive\, Suite 41\, Paradise Island\, Bahamas
ATTACH;FMTTYPE=image/jpeg:https://anywaysolutions.com/wp-content/uploads/2023/06/AdobeStock_299221226-scaled.jpeg
END:VEVENT
END:VCALENDAR