BEGIN:VCALENDAR
VERSION:2.0
PRODID:-//Anyway - ECPv6.15.20//NONSGML v1.0//EN
CALSCALE:GREGORIAN
METHOD:PUBLISH
X-ORIGINAL-URL:https://anywaysolutions.com
X-WR-CALDESC:Events for Anyway
REFRESH-INTERVAL;VALUE=DURATION:PT1H
X-Robots-Tag:noindex
X-PUBLISHED-TTL:PT1H
BEGIN:VTIMEZONE
TZID:UTC
BEGIN:STANDARD
TZOFFSETFROM:+0000
TZOFFSETTO:+0000
TZNAME:UTC
DTSTART:20220101T000000
END:STANDARD
END:VTIMEZONE
BEGIN:VEVENT
DTSTART;VALUE=DATE:20231109
DTEND;VALUE=DATE:20231113
DTSTAMP:20260422T162052
CREATED:20231103T030031Z
LAST-MODIFIED:20231103T030031Z
UID:28431-1699488000-1699833599@anywaysolutions.com
SUMMARY:AnyWay @ PhilConstruct
DESCRIPTION:Implementing Resilient and Sustainable Infrastructure Forum\nThe Philippine Constructors Association (PCA) and the International Federation of Asian and Western Pacific Contractors’ Association\, Inc. (IFAWPCA) created the forum on Implementing Resilient and Sustainable to bring together both local and international policymakers\, experts\, professionals\, and stakeholders from various sectors to discuss and address the challenges and opportunities related to the development and implementation of resilient and sustainable infrastructure.\nThis will be held: \n\nAt the SMX Convention Center\, Pasay City \nDuring Philconstruct Manila\nOn November 10\, 2023\, Friday | 8:00AM to 5:00 PM\n\nPractical Climate Resilient Engineering for Transport Infrastructure\nPresented by: Engr. Neil Clive Dale\, Project Manager\, AnyWay Solutions\nREGISTER HERE \nFor more information CLICK HERE \n 
URL:https://anywaysolutions.com/event/anyway-philconstruct/
LOCATION:SMX Convention Center\, Seashell Lane\, Mall of Asia Complex Pasay City 1300\, Pasay City\, Manila\, Philippines
ATTACH;FMTTYPE=image/jpeg:https://anywaysolutions.com/wp-content/uploads/2023/11/PhilConstruct-Neil.jpg
END:VEVENT
END:VCALENDAR