BEGIN:VCALENDAR
VERSION:2.0
PRODID:-//Anyway - ECPv6.15.20//NONSGML v1.0//EN
CALSCALE:GREGORIAN
METHOD:PUBLISH
X-WR-CALNAME:Anyway
X-ORIGINAL-URL:https://anywaysolutions.com
X-WR-CALDESC:Events for Anyway
REFRESH-INTERVAL;VALUE=DURATION:PT1H
X-Robots-Tag:noindex
X-PUBLISHED-TTL:PT1H
BEGIN:VTIMEZONE
TZID:UTC
BEGIN:STANDARD
TZOFFSETFROM:+0000
TZOFFSETTO:+0000
TZNAME:UTC
DTSTART:20220101T000000
END:STANDARD
END:VTIMEZONE
BEGIN:VEVENT
DTSTART;VALUE=DATE:20231127
DTEND;VALUE=DATE:20231202
DTSTAMP:20260422T150313
CREATED:20231122T012246Z
LAST-MODIFIED:20231122T012755Z
UID:28469-1701043200-1701475199@anywaysolutions.com
SUMMARY:IRF Climate Resilient Roads Best Practices Workshop
DESCRIPTION:The International Road Federation (IRF) has prepared the upcoming immersive workshop where participants will leave with the essential knowledge and skills needed to implement effective road engineering best management practices for climate resilience. \nAnyWay Solution’s Alex Campbell\, Director of Engineering Solutions\, is joining industry subject matter expert Gordon Keller\, Geotechnical Engineer and Project/Program Manager\, with an impressive career spanning several decades\, to deliver the various componants of the workshop with a focus on advanced engineering solutions to road projects to provide climate-resilient road networks. \nWhat to expect: Over the course of five days\, participants will delve into the scientific understanding of climate change\, explore its impacts on infrastructure\, and gain practical insights into adaptation measures. The training program will cover a wide range of critical aspects in road engineering\, including strategic planning\, disaster response and recovery\, infrastructure assessment\, surfacing materials selection\, hydrological considerations\, drainage design\, slope stabilization techniques\, water quality protection\, and environmentally sensitive road maintenance practices. Throughout the workshop\, participants will engage in interactive sessions\, case studies\, and field trips to enhance their understanding and practical application of climate-resilient road engineering concepts. \nThe IRF is an approved training provider by the Chartered Institution of Highways and Transportation (CIHT). \nCLICK HERE to register
URL:https://anywaysolutions.com/event/irf-climate-resilient-roads-best-practices-workshop/
LOCATION:Delta Hotels Orlando\, 2900 Parkway Boulevard\, Kissimmee Orlando\, FL\, 34747\, United States
ATTACH;FMTTYPE=image/png:https://anywaysolutions.com/wp-content/uploads/2023/11/IRF-Fl-.png
END:VEVENT
END:VCALENDAR