BEGIN:VCALENDAR
VERSION:2.0
PRODID:-//Anyway - ECPv6.15.20//NONSGML v1.0//EN
CALSCALE:GREGORIAN
METHOD:PUBLISH
X-WR-CALNAME:Anyway
X-ORIGINAL-URL:https://anywaysolutions.com
X-WR-CALDESC:Events for Anyway
REFRESH-INTERVAL;VALUE=DURATION:PT1H
X-Robots-Tag:noindex
X-PUBLISHED-TTL:PT1H
BEGIN:VTIMEZONE
TZID:Asia/Manila
BEGIN:STANDARD
TZOFFSETFROM:+0800
TZOFFSETTO:+0800
TZNAME:PST
DTSTART:20230101T000000
END:STANDARD
END:VTIMEZONE
BEGIN:VEVENT
DTSTART;TZID=Asia/Manila:20240417T090000
DTEND;TZID=Asia/Manila:20240417T160000
DTSTAMP:20260422T094154
CREATED:20240318T023435Z
LAST-MODIFIED:20240410T191212Z
UID:29052-1713344400-1713369600@anywaysolutions.com
SUMMARY:Climate Resiliency for Transport Infrastructure Symposium - Philippines
DESCRIPTION:AnyWay presents an exclusive symposium addressing the importance of climate resiliency in mitigating the effects of climate change on transport infrastructure in the Philippines. Bringing together government\, policymakers\, engineers and contractors\, this full-day symposium will tackle challenges and highlight innovative ideas\, lessons learned and practical solutions related to the planning\, design\, financing\, construction and maintenance of resilient and sustainable transport infrastructure. \nJoin us for an opportunity to: \n\nNetwork with your peers in an environment that fosters partnership-building and collaboration.\nExchange knowledge on current practices and practical solutions that help strengthen infrastructure and the overall economy (i.e. technology solutions including satellite technology and the role of AI).\nLearn about opportunities to integrate climate-resilient solutions into transport infrastructure projects.\n\nRSVP by April 14th\, 2024  \nSpace is limited: RESERVE YOUR SPOT TODAY!
URL:https://anywaysolutions.com/event/climate-resiliency-for-transport-infrastructure-symposium-philippines/
LOCATION:The Mind Museum\, JY Campos Park\, 3rd Avenue\, Bonifacio Global City Taguig City\, 1634\, Philippines
ATTACH;FMTTYPE=image/png:https://anywaysolutions.com/wp-content/uploads/2024/03/Philippines-Website-thumbnail.png
END:VEVENT
END:VCALENDAR