BEGIN:VCALENDAR
VERSION:2.0
PRODID:-//Anyway - ECPv6.15.20//NONSGML v1.0//EN
CALSCALE:GREGORIAN
METHOD:PUBLISH
X-WR-CALNAME:Anyway
X-ORIGINAL-URL:https://anywaysolutions.com
X-WR-CALDESC:Events for Anyway
REFRESH-INTERVAL;VALUE=DURATION:PT1H
X-Robots-Tag:noindex
X-PUBLISHED-TTL:PT1H
BEGIN:VTIMEZONE
TZID:UTC
BEGIN:STANDARD
TZOFFSETFROM:+0000
TZOFFSETTO:+0000
TZNAME:UTC
DTSTART:20230101T000000
END:STANDARD
END:VTIMEZONE
BEGIN:VEVENT
DTSTART;VALUE=DATE:20240605
DTEND;VALUE=DATE:20240608
DTSTAMP:20260422T071808
CREATED:20240506T025247Z
LAST-MODIFIED:20240507T030040Z
UID:29188-1717545600-1717804799@anywaysolutions.com
SUMMARY:Transport Evolution West Africa (TEWA) - Accra Ghana
DESCRIPTION:Transport Evolution West Africa is a highly anticipated and transformative transport event taking place in Ghana\, co-located with the esteemed WAMPEX (West African Mining & Power Exhibition). With a focus on revolutionizing the transport industry in the region\, the event is set to become the ultimate platform for innovation\, collaboration\, and expertise. Attendees can explore an exhibition zone featuring leading global companies’ latest advancements in transport solutions\, equipment\, technologies\, and services. The event’s dynamic conference sessions will bring together industry experts\, thought leaders and policymakers to engage in insightful discussions on crucial topics. \nAnyWay’s participation:\nAnyWay is pleased to be a Bronze sponsor for the event and provide several opportunities during the event to share our knowledge on climate-resilient transport infrastructure. \nWorkshop:\nCEO Zeevik Halber\, will lead a workshop on Climate Resiliency for Transport Infrastructure – The AnyWay way of providing climate resilient solutions \n 
URL:https://anywaysolutions.com/event/transport-evolution-west-africa-tewa-accra-ghana/
LOCATION:Accra International Conference Centre\, Castle Rd\, Accra\, Ghana Accra\, Ghana
ATTACH;FMTTYPE=image/png:https://anywaysolutions.com/wp-content/uploads/2024/05/1.png
END:VEVENT
END:VCALENDAR