BEGIN:VCALENDAR
VERSION:2.0
PRODID:-//Anyway - ECPv6.15.20//NONSGML v1.0//EN
CALSCALE:GREGORIAN
METHOD:PUBLISH
X-WR-CALNAME:Anyway
X-ORIGINAL-URL:https://anywaysolutions.com
X-WR-CALDESC:Events for Anyway
REFRESH-INTERVAL;VALUE=DURATION:PT1H
X-Robots-Tag:noindex
X-PUBLISHED-TTL:PT1H
BEGIN:VTIMEZONE
TZID:UTC
BEGIN:STANDARD
TZOFFSETFROM:+0000
TZOFFSETTO:+0000
TZNAME:UTC
DTSTART:20240101T000000
END:STANDARD
END:VTIMEZONE
BEGIN:VEVENT
DTSTART;VALUE=DATE:20250325
DTEND;VALUE=DATE:20250329
DTSTAMP:20260421T194310
CREATED:20250211T005752Z
LAST-MODIFIED:20250315T184026Z
UID:29665-1742860800-1743206399@anywaysolutions.com
SUMMARY:The Ghana Institution of Engineering 55th Annual General Meeting & Conference
DESCRIPTION:Urbanization and Smart Cities:\nEngineering the Future of Ghana Cities \nEnhancing Climate Resiliency of Urban Roads through Asset Management Advanced Technologies\nData-driven optimized decision making – Presented by Neil Dale\nTechnology plays a big role in empowering engineers to make high-quality decisions that positively impact the built environment. This presentation explores the application of infrastructure technology in urban environments\, focusing on climate-resilient pavement rehabilitation. Emphasizing the significance of pavement asset management for efficiently and cost-effectively maintaining existing infrastructure\, this presentation highlights the crucial role of effective pavement management in urban development and budget allocation\, showcasing how technology improves data collection and analysis. The presentation reviews various data collection methods\, the role of expert analysis and AI\, and discusses rehabilitation strategies tailored for changing weather patterns. Additionally\, it identifies common challenges in urban pavement management and proposes innovative technological solutions. Finally\, it examines emerging trends that could shape the future of pavement management\, emphasizing data in optimizing urban infrastructure. \n 
URL:https://anywaysolutions.com/event/the-ghana-institution-of-engineering-55th-annual-general-meeting-conference/
LOCATION:Movenpick Ambassador Hotel\, Ridge\, PMB CT 343\, Independence Avenue\, Independence Avenue\, Accra\, Ghana
ATTACH;FMTTYPE=image/png:https://anywaysolutions.com/wp-content/uploads/2025/02/GhIE.png
END:VEVENT
END:VCALENDAR