BEGIN:VCALENDAR
VERSION:2.0
PRODID:-//Anyway - ECPv6.15.20//NONSGML v1.0//EN
CALSCALE:GREGORIAN
METHOD:PUBLISH
X-WR-CALNAME:Anyway
X-ORIGINAL-URL:https://anywaysolutions.com
X-WR-CALDESC:Events for Anyway
REFRESH-INTERVAL;VALUE=DURATION:PT1H
X-Robots-Tag:noindex
X-PUBLISHED-TTL:PT1H
BEGIN:VTIMEZONE
TZID:UTC
BEGIN:STANDARD
TZOFFSETFROM:+0000
TZOFFSETTO:+0000
TZNAME:UTC
DTSTART:20230101T000000
END:STANDARD
END:VTIMEZONE
BEGIN:VTIMEZONE
TZID:America/New_York
BEGIN:DAYLIGHT
TZOFFSETFROM:-0500
TZOFFSETTO:-0400
TZNAME:EDT
DTSTART:20250309T070000
END:DAYLIGHT
BEGIN:STANDARD
TZOFFSETFROM:-0400
TZOFFSETTO:-0500
TZNAME:EST
DTSTART:20251102T060000
END:STANDARD
BEGIN:DAYLIGHT
TZOFFSETFROM:-0500
TZOFFSETTO:-0400
TZNAME:EDT
DTSTART:20260308T070000
END:DAYLIGHT
BEGIN:STANDARD
TZOFFSETFROM:-0400
TZOFFSETTO:-0500
TZNAME:EST
DTSTART:20261101T060000
END:STANDARD
BEGIN:DAYLIGHT
TZOFFSETFROM:-0500
TZOFFSETTO:-0400
TZNAME:EDT
DTSTART:20270314T070000
END:DAYLIGHT
BEGIN:STANDARD
TZOFFSETFROM:-0400
TZOFFSETTO:-0500
TZNAME:EST
DTSTART:20271107T060000
END:STANDARD
END:VTIMEZONE
BEGIN:VEVENT
DTSTART;VALUE=DATE:20241210
DTEND;VALUE=DATE:20241214
DTSTAMP:20260422T021605
CREATED:20241204T014402Z
LAST-MODIFIED:20241204T014508Z
UID:29594-1733788800-1734134399@anywaysolutions.com
SUMMARY:IRF Global R2T Conference & Exhibition
DESCRIPTION:Join Us at the IRF Global R2T Conference & Exhibition in Orlando\, FL! \nWe are excited to announce that Alex Campbell\, Director of Engineering at AnyWay Solutions\, will be a featured speaker at the upcoming IRF Global R2T Conference\, themed “Green\, Equitable\, Intelligent & Integrated Roadways.” This premier event for leaders in roads and mobility will take place from December 11-12\, 2024\, providing a dynamic platform for innovation and collaboration in transportation. \nSession Highlights: \nTS2.2: AI and Big Data: Revolutionizing Asset Management in Transportation Networks\nDate & Time: Wednesday\, December 11\, 2024\, 2:00 PM – 3:30 PM EST \nAlex Campbell will present an evaluation of InfraTech systems and their capacity to provide vital road asset management data\, enabling climate-resilient decision-making. \nES8: Advances in Roadside Safety\nDate & Time: Thursday\, December 12\, 2024\, 11:00 AM – 12:30 PM EST \nAlex will discuss the significant impact of upgrading low-volume roads in developing regions on roadside safety. \nThis conference is a fantastic opportunity to connect with industry leaders and explore the future of transportation. Don’t miss the chance to hear from Alex and other experts as they share insights and advancements that are shaping the roadway landscape. \nWe look forward to seeing you in Orlando! \nREAD MORE
URL:https://anywaysolutions.com/event/irf-global-r2t-orlando/
LOCATION:DoubleTree by Hilton Orlando at SeaWorld\, 10100 International Dr.\, ORLANDO\, FL\, 32821\, United States
ATTACH;FMTTYPE=image/png:https://anywaysolutions.com/wp-content/uploads/2024/12/IRF-Orlando.png
END:VEVENT
BEGIN:VEVENT
DTSTART;VALUE=DATE:20250325
DTEND;VALUE=DATE:20250329
DTSTAMP:20260422T021605
CREATED:20250211T005752Z
LAST-MODIFIED:20250315T184026Z
UID:29665-1742860800-1743206399@anywaysolutions.com
SUMMARY:The Ghana Institution of Engineering 55th Annual General Meeting & Conference
DESCRIPTION:Urbanization and Smart Cities:\nEngineering the Future of Ghana Cities \nEnhancing Climate Resiliency of Urban Roads through Asset Management Advanced Technologies\nData-driven optimized decision making – Presented by Neil Dale\nTechnology plays a big role in empowering engineers to make high-quality decisions that positively impact the built environment. This presentation explores the application of infrastructure technology in urban environments\, focusing on climate-resilient pavement rehabilitation. Emphasizing the significance of pavement asset management for efficiently and cost-effectively maintaining existing infrastructure\, this presentation highlights the crucial role of effective pavement management in urban development and budget allocation\, showcasing how technology improves data collection and analysis. The presentation reviews various data collection methods\, the role of expert analysis and AI\, and discusses rehabilitation strategies tailored for changing weather patterns. Additionally\, it identifies common challenges in urban pavement management and proposes innovative technological solutions. Finally\, it examines emerging trends that could shape the future of pavement management\, emphasizing data in optimizing urban infrastructure. \n 
URL:https://anywaysolutions.com/event/the-ghana-institution-of-engineering-55th-annual-general-meeting-conference/
LOCATION:Movenpick Ambassador Hotel\, Ridge\, PMB CT 343\, Independence Avenue\, Independence Avenue\, Accra\, Ghana
ATTACH;FMTTYPE=image/png:https://anywaysolutions.com/wp-content/uploads/2025/02/GhIE.png
END:VEVENT
BEGIN:VEVENT
DTSTART;VALUE=DATE:20250528
DTEND;VALUE=DATE:20250531
DTSTAMP:20260422T021605
CREATED:20250528T174814Z
LAST-MODIFIED:20250529T012237Z
UID:29852-1748390400-1748649599@anywaysolutions.com
SUMMARY:West African Mining & Power Expo & Conference (WAMPEX)
DESCRIPTION:The 2025 edition of WAMPEX continues its tradition of bringing together industry experts\, policymakers\, researchers\, and practitioners to explore the latest developments in the power and mining sectors across the West African region. WAMPEX is the most prominent forum in West Africa for the international mining and power industries. For over 30 years\, it has attracted attendees and exhibitors from around the world. \nSephie Galgut will be in attendance from May 28-30\, 2025  and looks forward to connecting with industry leaders and showcasing how we’re supporting sustainable infrastructure and development across the region with innovative technologies. \nReach out to Sephie to discuss: \n✔️ Our climate-resilient transport infrastructure solutions \n✔️ How we’re helping mining companies find efficiencies while developing connecting roads \n✔️ Our commitment to responsible growth in Africa
URL:https://anywaysolutions.com/event/west-african-mining-power-expo-conference-wampex/
LOCATION:Accra International Conference Centre\, Castle Rd\, Accra\, Ghana Accra\, Ghana
ATTACH;FMTTYPE=image/png:https://anywaysolutions.com/wp-content/uploads/2025/05/WAMPEX.png
END:VEVENT
BEGIN:VEVENT
DTSTART;TZID=America/New_York:20260422T100000
DTEND;TZID=America/New_York:20260422T110000
DTSTAMP:20260422T021605
CREATED:20260406T003319Z
LAST-MODIFIED:20260409T132259Z
UID:30875-1776852000-1776855600@anywaysolutions.com
SUMMARY:Rural Connectivity in Developing Nations: Lessons From the Field
DESCRIPTION:Rural access is fundamental to economic opportunity and social inclusion\, yet it remains one of the most overlooked aspects of transport infrastructure. Globally\, nearly one billion people still lack reliable all-season road access\, limiting their ability to reach markets\, schools\, and healthcare. The result is predictable: rapid deterioration\, seasonal isolation\, high transport costs\, and increased vulnerability to climate shocks. However\, policy and funding discussions are slowly beginning to shift towards emphasizing rural access as an important development priority. \nThis webinar offers a valuable opportunity to learn from field-based experiences and gain practical strategies to improve rural connectivity. Participants will hear from professionals in both the private and non-profit sectors who are actively working to improve rural connectivity for the more than three billion people living in rural areas worldwide. Through case studies from East Africa and the Asia-Pacific region\, speakers will highlight the importance of fit-for-purpose technologies\, data-driven decision-making\, and innovative policy frameworks in enhancing rural access and improving quality of life. \nJoin us to engage with industry experts\, ask your questions\, and strengthen your approach to delivering sustainable rural access solutions. \nLearning Outcomes for the Audience\n\nUnderstand the critical role of rural access in improving livelihoods\, service delivery\, and economic inclusion of the last mile\nAppreciate the value of actionable\, community-level data in prioritizing infrastructure investments for maximum impact\nRecognize a range of fit-for-purpose rural access solutions\, ranging from roads to trail and stone arch bridges\nLearn practical lessons from East Africa and Asia Pacific on implementing climate-resilient and scalable rural access interventions.\nGain insight into how partnerships with governments and local communities can support sustainable\, long-term rural access improvements.\n\nREGISTER HERE \nAbout the Speakers\nAlex Campbell\, Senior Transport Specialist  – Introduction & Moderator\nAlex Campbell has over two decades of international experience across Africa\, the Caribbean\, the Middle East\, and the Asia-Pacific. Alex has led multidisciplinary teams in the planning\, design\, and delivery of strategic road\, bridge\, and transport corridor projects in some of the world’s most challenging environments. His expertise spans geotechnical and pavement engineering\, drainage and flood resilience design\, and the application of advanced data analytics and remote sensing to optimize infrastructure performance under changing climate conditions. Throughout his career\, Alex has been instrumental in implementing practical\, cost-effective solutions tailored to the realities of developing regions. He has worked extensively with government ministries\, multilateral agencies\, and private contractors to design and implement infrastructure that balances engineering excellence with socio-economic sustainability. \nZeevik Halber\, AnyWay Solutions CEO – Case Study: The long-term impact of climate resilient roads\, connecting rural areas in Papua New Guinea\nZeevik Halber was appointed CEO of AnyWay Solid Environmental Solutions in 2004 and\, since then\, has led the company’s development from a regional business into a multinational enterprise and world expert on Climate Resiliency for Transport Infrastructure. Zeevik is the senior executive responsible for managing the AnyWay group of companies and the General Manager of several AnyWay companies across various countries. Through long-term involvement at the management level of the Metrontario Group of Companies\, Zeevik has gained multinational\, multidisciplinary experience in managing large-scale businesses. Experienced in government relations at the highest levels and in the operation and growth of a wide variety of businesses at every stage of development. \nEdgar Mussajjawaza – Fika Uganda Program Manager – Case Study: From trail bridge construction to an integrated approach to rural access\nEdgar Mussajjawaza is a Building Economist and certified Project Management Professional (PMP) with over 13 years of experience in infrastructure development\, construction supervision\, and program management across East Africa. He holds a Master of Science in Construction Management and a Postgraduate Diploma in Project Management from Makerere University\, as well as a Bachelor of Science in Building Economics from Kyambogo University. Currently serving as the Uganda Program Manager at Fika (formerly Bridges to Prosperity)\, Edgar leads the delivery of rural infrastructure initiatives that improve access for underserved communities by constructing climate-resilient pedestrian bridges. His work focuses on advancing data-driven and remote access assessment tools that inform government prioritization policies and guide high-impact infrastructure investments. \n 
URL:https://anywaysolutions.com/event/rural-connectivity-in-developing-nations-lessons-from-the-field/
LOCATION:Go-To-Webinar\, Online / Virtual
CATEGORIES:Webinar
ATTACH;FMTTYPE=image/png:https://anywaysolutions.com/wp-content/uploads/2026/04/IRF-Webinar-2.png
END:VEVENT
END:VCALENDAR