BEGIN:VCALENDAR
VERSION:2.0
PRODID:-//Anyway - ECPv6.15.20//NONSGML v1.0//EN
CALSCALE:GREGORIAN
METHOD:PUBLISH
X-ORIGINAL-URL:https://anywaysolutions.com
X-WR-CALDESC:Events for Anyway
REFRESH-INTERVAL;VALUE=DURATION:PT1H
X-Robots-Tag:noindex
X-PUBLISHED-TTL:PT1H
BEGIN:VTIMEZONE
TZID:UTC
BEGIN:STANDARD
TZOFFSETFROM:+0000
TZOFFSETTO:+0000
TZNAME:UTC
DTSTART:20230101T000000
END:STANDARD
END:VTIMEZONE
BEGIN:VEVENT
DTSTART;TZID=UTC:20240717T120000
DTEND;TZID=UTC:20240717T133000
DTSTAMP:20260422T045052
CREATED:20240715T021746Z
LAST-MODIFIED:20240715T021746Z
UID:29244-1721217600-1721223000@anywaysolutions.com
SUMMARY:IRF Webinar: Introduction to Adapting Digital Solutions in Asset Management
DESCRIPTION:AnyWay is pleased to offer a complimentary course through the IRF e-Learning Webinar series. \nIntegrating digital solutions into asset management has become crucial for optimizing infrastructure and enhancing asset management outcomes. While these solutions are becoming more widely accepted and used\, adopting these advanced technologies presents unique challenges and opportunities. \nLearning Outcomes: \n\nUnderstand the current state and challenges of asset management.\nExplore various digital solutions and their applicability in different asset management scenarios.\nIdentify the benefits and potential impacts of digital transformation on infrastructure and economic development.\nDevelop strategies to overcome barriers to technology adoption.\n\nModerator: \n\nDr. Carlos Chang\, Florida International University\n\nPanelists: \n\nRobin Workman\, Principal International Consultant\, TRL\nZeevik Halber\, CEO\, AnyWay\nIbon Arechalde\, CEO & Co-founder\, Asimob\n\nREGISTER HERE
URL:https://anywaysolutions.com/event/irf-webinar-introduction-to-adapting-digital-solutions-in-asset-management/
LOCATION:Go-To-Webinar\, Online / Virtual
ATTACH;FMTTYPE=image/png:https://anywaysolutions.com/wp-content/uploads/2024/07/3.png
END:VEVENT
BEGIN:VEVENT
DTSTART;VALUE=DATE:20240730
DTEND;VALUE=DATE:20240803
DTSTAMP:20260422T045052
CREATED:20240506T030934Z
LAST-MODIFIED:20240506T030934Z
UID:29193-1722297600-1722643199@anywaysolutions.com
SUMMARY:12th IRF Caribbean Regional Congress - Puerto Rico
DESCRIPTION:“A Roadmap to a Safe\, Inclusive\, and Resilient Transport System”\nEstablished in 2012 in response to the growing demand for a dedicated event catering to transportation professionals across 30 countries and territories in the Caribbean region\, the International Road Federation’s (IRF Global) flagship event has evolved into a pivotal gathering for the region’s foremost transportation decision-makers and professionals. This event seamlessly blends regional case studies with global insights\, fostering collaboration and knowledge sharing. \nAnyWay’s Participation: \nAnyWay Solutions will present two topics at the Caribbean Congress\, including a workshop on climate resilience with Asif Faiz and Gordon Keller. \n\nRoadside safety and the price of progress: a review of increased risk in roadside safety of an upgraded road in the developing world\nThe importance of updated road standards and specifications related to climate resilient roads: A case study from the South Pacific
URL:https://anywaysolutions.com/event/12th-irf-caribbean-regional-congress-puerto-rico/
LOCATION:Puerto Rico Convention Center\, 100 Convention Blvd\, San Juan\, 00907-4900\, Puerto Rico
ATTACH;FMTTYPE=image/png:https://anywaysolutions.com/wp-content/uploads/2024/05/IRF.png
END:VEVENT
END:VCALENDAR